BEGIN:VCALENDAR
PRODID:-//AT Content Types//AT Event//EN
VERSION:2.0
METHOD:PUBLISH
BEGIN:VEVENT
DTSTAMP:20260423T200507Z
CREATED:20250508T125500Z
UID:ATEvent-f20acf317ba64ac89b460c75294ed298
LAST-MODIFIED:20250530T072204Z
SUMMARY:Online Stakeholder Engagement
DTSTART:20250530T130000Z
DTEND:20250530T140000Z
DESCRIPTION:To register for this event\, please email Covid.inquiry@ex
 ecutiveoffice-ni.gov.uk
CLASS:PUBLIC
END:VEVENT
END:VCALENDAR
