BEGIN:VCALENDAR
PRODID:-//AT Content Types//AT Event//EN
VERSION:2.0
METHOD:PUBLISH
BEGIN:VEVENT
DTSTAMP:20260423T200626Z
CREATED:20250508T125500Z
UID:ATEvent-f0e8525e215040dfb17a9ad367e6ad2e
LAST-MODIFIED:20250530T072204Z
SUMMARY:In Person Engagement Event
DTSTART:20250604T133000Z
DTEND:20250604T143000Z
DESCRIPTION:To register for this event\, please email Covid.inquiry@ex
 ecutiveoffice-ni.gov.uk
CLASS:PUBLIC
END:VEVENT
END:VCALENDAR
