BEGIN:VCALENDAR
PRODID:-//AT Content Types//AT Event//EN
VERSION:2.0
METHOD:PUBLISH
BEGIN:VEVENT
DTSTAMP:20260423T212155Z
CREATED:20250508T125500Z
UID:ATEvent-0a3235b29fd24bdb94ffa907fdce03ee
LAST-MODIFIED:20250530T072204Z
SUMMARY:In Person Engagement Event
DTSTART:20250529T130000Z
DTEND:20250529T140000Z
DESCRIPTION:To register for this event\, please email Covid.inquiry@ex
 ecutiveoffice-ni.gov.uk
CLASS:PUBLIC
END:VEVENT
END:VCALENDAR
