BEGIN:VCALENDAR
PRODID:-//AT Content Types//AT Event//EN
VERSION:2.0
METHOD:PUBLISH
BEGIN:VEVENT
DTSTAMP:20260423T201028Z
CREATED:20250530T110122Z
UID:ATEvent-39bdd31316c9441181d85c7e033ecb21
LAST-MODIFIED:20250625T130916Z
SUMMARY:Public Consultation Engagement Events
DTSTART:20250529T230100Z
DTEND:20250727T225900Z
DESCRIPTION:A list of Public Consultation Engagement Events and inform
 ation on how to register is available here:\nhttps://www.tickettailor.
 com/events/doj1
CLASS:PUBLIC
END:VEVENT
END:VCALENDAR
