BEGIN:VCALENDAR
PRODID:-//AT Content Types//AT Event//EN
VERSION:2.0
METHOD:PUBLISH
BEGIN:VEVENT
DTSTAMP:20260424T030038Z
CREATED:20191018T111813Z
UID:ATEvent-bb6df87e47a34fb7820c14a6c8e4030c
LAST-MODIFIED:20230307T152459Z
SUMMARY:Public Engagement Event
DTSTART:20191204T150000Z
DTEND:20191204T163000Z
DESCRIPTION:Clifton House\nNorth Queen Street\nBelfast\nBT15 1EQ\n\nRe
 gistration for this event opens on 30 October 2019\nhttps://www.eventb
 rite.co.uk/e/78592721947
CLASS:PUBLIC
END:VEVENT
END:VCALENDAR
