BEGIN:VCALENDAR
PRODID:-//AT Content Types//AT Event//EN
VERSION:2.0
METHOD:PUBLISH
BEGIN:VEVENT
DTSTAMP:20260424T014726Z
CREATED:20191202T153637Z
UID:ATEvent-9cf4fc2a56eb4637ba4e7dd547d08ab2
LAST-MODIFIED:20230307T152459Z
SUMMARY:Public Engagement Event
DTSTART:20200116T190000Z
DTEND:20200116T203000Z
DESCRIPTION:Adair Arms Hotel \n1-7 Ballymoney Road\nBallymena\nBT43 5B
 S\n\nRegistration for this event opens on 2 December 2019\nhttps://www
 .eventbrite.co.uk/e/84581992
CLASS:PUBLIC
END:VEVENT
END:VCALENDAR
