BEGIN:VCALENDAR
PRODID:-//AT Content Types//AT Event//EN
VERSION:2.0
METHOD:PUBLISH
BEGIN:VEVENT
DTSTAMP:20260424T015141Z
CREATED:20191202T153637Z
UID:ATEvent-7aebe1c7276e450ebce97a7379027e9d
LAST-MODIFIED:20230307T152459Z
SUMMARY:Public Engagement Event
DTSTART:20200113T190000Z
DTEND:20200113T203000Z
DESCRIPTION:CAFRE \nFood Technology Centre\nLoughry Campus\n76 Dungann
 on Road \nCookstown\nBT80 9AA\n\nRegistration for this event opens on 
 2 December 2019\nhttps://www.eventbrite.co.uk/e/84581777373
CLASS:PUBLIC
END:VEVENT
END:VCALENDAR
