BEGIN:VCALENDAR
PRODID:-//AT Content Types//AT Event//EN
VERSION:2.0
METHOD:PUBLISH
BEGIN:VEVENT
DTSTAMP:20260424T014742Z
CREATED:20191202T153637Z
UID:ATEvent-7b1d6bb1cea8491a8b75b9fb5e8e9e2e
LAST-MODIFIED:20230307T152459Z
SUMMARY:Public Engagement Event
DTSTART:20200120T190000Z
DTEND:20200120T203000Z
DESCRIPTION:Newry Conference Centre\n39 – 41 The Mall \nNewry\nBT34 
 1AT\n\nRegistration for this event opens on 2 December 2019\nhttps://w
 ww.eventbrite.co.uk/e/84583075255
CLASS:PUBLIC
END:VEVENT
END:VCALENDAR
