BEGIN:VCALENDAR
PRODID:-//AT Content Types//AT Event//EN
VERSION:2.0
METHOD:PUBLISH
BEGIN:VEVENT
DTSTAMP:20260424T014932Z
CREATED:20191018T111813Z
UID:ATEvent-56e32c6c906b49cc8a0e2123103c9e50
LAST-MODIFIED:20230307T152459Z
SUMMARY:Public Engagement Event
DTSTART:20191114T190000Z
DTEND:20191114T203000Z
DESCRIPTION:Craigavon Civic Centre\n66 Lakeview Road\nCraigavon\nBT64 
 1AL\n\nRegistration for this event opens on 30 October 2019\nhttps://w
 ww.eventbrite.co.uk/e/78145518349
CLASS:PUBLIC
END:VEVENT
END:VCALENDAR
