BEGIN:VCALENDAR
PRODID:-//AT Content Types//AT Event//EN
VERSION:2.0
METHOD:PUBLISH
BEGIN:VEVENT
DTSTAMP:20260424T030003Z
CREATED:20191018T111813Z
UID:ATEvent-f11e0d4c768a4c1ea06592d8efc7ba43
LAST-MODIFIED:20230307T152459Z
SUMMARY:Public Engagement Event
DTSTART:20191113T190000Z
DTEND:20191113T203000Z
DESCRIPTION:Fermanagh House\nBroadmeadow Place\nEnniskillen\nBT74 7HR\
 n\nRegistration for this event opens on 30 October 2019\nhttps://www.e
 ventbrite.co.uk/e/78593797163
CLASS:PUBLIC
END:VEVENT
END:VCALENDAR
