BEGIN:VCALENDAR
PRODID:-//AT Content Types//AT Event//EN
VERSION:2.0
METHOD:PUBLISH
BEGIN:VEVENT
DTSTAMP:20260424T015141Z
CREATED:20191018T111813Z
UID:ATEvent-0f8bb92e70e04bc9b7e1d12776e1178f
LAST-MODIFIED:20230307T152459Z
SUMMARY:Public Engagement Event
DTSTART:20191204T190000Z
DTEND:20191204T203000Z
DESCRIPTION:Clifton House\nNorth Queen Street\nBelfast\nBT15 1EQ\n\nRe
 gistration for this event opens on 30 October 2019\nhttps://www.eventb
 rite.co.uk/e/78593953631
CLASS:PUBLIC
END:VEVENT
END:VCALENDAR
