BEGIN:VCALENDAR
PRODID:-//AT Content Types//AT Event//EN
VERSION:2.0
METHOD:PUBLISH
BEGIN:VEVENT
DTSTAMP:20260424T030023Z
CREATED:20191016T141522Z
UID:ATEvent-ee4bbd8fe441424ab7cafa89aa3b2d89
LAST-MODIFIED:20230307T152459Z
SUMMARY:Public Engagement Event
DTSTART:20191111T190000Z
DTEND:20191111T203000Z
DESCRIPTION:Waterfoot Hotel\nCaw Roundabout\nDerry/Londonderry\nBT47 6
 TB\n\nRegistration for this event opens on 30 October 2019\nhttps://ww
 w.eventbrite.co.uk/e/78203953129
CLASS:PUBLIC
END:VEVENT
END:VCALENDAR
