BEGIN:VCALENDAR
PRODID:-//AT Content Types//AT Event//EN
VERSION:2.0
METHOD:PUBLISH
BEGIN:VEVENT
DTSTAMP:20260422T125922Z
CREATED:20240102T094200Z
UID:ATEvent-2965f1e25a584f13a0bbdab9bfd00d2f
LAST-MODIFIED:20240109T163647Z
SUMMARY:Inform You - Subsidy Control
DTSTART:20240111T090000Z
DTEND:20240111T120000Z
DESCRIPTION:Subsidy Control – How is UK subsidy control and EU State
  aid impacted by the Windsor Framework and what does this mean for me?
 
CLASS:PUBLIC
END:VEVENT
END:VCALENDAR
