BEGIN:VCALENDAR
PRODID:-//AT Content Types//AT Event//EN
VERSION:2.0
METHOD:PUBLISH
BEGIN:VEVENT
DTSTAMP:20260424T015825Z
CREATED:20190917T150559Z
UID:ATEvent-284e244233ca44f7aa4a974031184b3e
LAST-MODIFIED:20190917T154646Z
SUMMARY:Leadership Team Event for New Staff at DP & SO
DTSTART:20191014T130000Z
DTEND:20200914T140000Z
DESCRIPTION:Adelaide House\, Conference Rooms 1&2\, 39-49 Adelaide Str
 eet\, Belfast\, BT2 8FD
CLASS:PUBLIC
END:VEVENT
END:VCALENDAR
