BEGIN:VCALENDAR
PRODID:-//AT Content Types//AT Event//EN
VERSION:2.0
METHOD:PUBLISH
BEGIN:VEVENT
DTSTAMP:20260422T142546Z
CREATED:20240109T165436Z
UID:ATEvent-27f13a9a3511431ea4460618f3e73df2
LAST-MODIFIED:20240109T170632Z
SUMMARY:Inform You - Lessons from past economic crises to plan for future crises
DTSTART:20240123T133000Z
DTEND:20240123T170000Z
DESCRIPTION:Subsidy Control – Lessons from past economic crises to p
 lan for future crises
CLASS:PUBLIC
END:VEVENT
END:VCALENDAR
