BEGIN:VCALENDAR
PRODID:-//AT Content Types//AT Event//EN
VERSION:2.0
METHOD:PUBLISH
BEGIN:VEVENT
DTSTAMP:20260422T142426Z
CREATED:20231211T161708Z
UID:ATEvent-8631abfefdb94eeda990a75390475469
LAST-MODIFIED:20231213T102101Z
SUMMARY:EO2/EO1 - DfE People and Organisational Development Plan - Focus Group
DTSTART:20240117T110000Z
DTEND:20240117T120000Z
DESCRIPTION:EO1/EO2 - DfE People and Organisational Development Plan -
  Focus Group
CLASS:PUBLIC
END:VEVENT
END:VCALENDAR
