BEGIN:VCALENDAR
PRODID:-//AT Content Types//AT Event//EN
VERSION:2.0
METHOD:PUBLISH
BEGIN:VEVENT
DTSTAMP:20260423T125803Z
CREATED:20231211T161708Z
UID:ATEvent-503796a2eeb94809bd1fc2c06d8404a6
LAST-MODIFIED:20231213T102101Z
SUMMARY:SO/DP - DfE People and Organisational Development Plan - Focus Group
DTSTART:20240119T110000Z
DTEND:20240119T120000Z
DESCRIPTION:DP/SO - DfE People and Organisational Development Plan - F
 ocus Group
CLASS:PUBLIC
END:VEVENT
END:VCALENDAR
