BEGIN:VCALENDAR
PRODID:-//AT Content Types//AT Event//EN
VERSION:2.0
METHOD:PUBLISH
BEGIN:VEVENT
DTSTAMP:20260422T142518Z
CREATED:20231211T161709Z
UID:ATEvent-6df89c065d53433cae35317837b0899f
LAST-MODIFIED:20231213T102101Z
SUMMARY:AA/AO DfE People and Organisational Development Plan - Focus Group
DTSTART:20240116T100000Z
DTEND:20240116T110000Z
DESCRIPTION:AA/AO - DfE People and Organisational Development Plan - F
 ocus Group
CLASS:PUBLIC
END:VEVENT
END:VCALENDAR
