BEGIN:VCALENDAR
PRODID:-//AT Content Types//AT Event//EN
VERSION:2.0
METHOD:PUBLISH
BEGIN:VEVENT
DTSTAMP:20260421T222805Z
CREATED:20230525T163141Z
UID:ATEvent-aaba9c5cf9b04ad38801cb1a77c0285a
LAST-MODIFIED:20230607T113502Z
SUMMARY:Initial Responses Due
DTSTART:20230607T120000Z
DTEND:20230705T225900Z
DESCRIPTION:Initial Responses within the first four weeks
CLASS:PUBLIC
END:VEVENT
END:VCALENDAR
