BEGIN:VCALENDAR
PRODID:-//AT Content Types//AT Event//EN
VERSION:2.0
METHOD:PUBLISH
BEGIN:VEVENT
DTSTAMP:20260421T222805Z
CREATED:20230525T163141Z
UID:ATEvent-6097d6a5eee04afa945ebc76d8711833
LAST-MODIFIED:20230607T113502Z
SUMMARY:Final Responses Due
DTSTART:20230607T120000Z
DTEND:20230830T225900Z
DESCRIPTION:Additional responses can be submitted up to 12 weeks follo
 wing publication of the consultation
CLASS:PUBLIC
END:VEVENT
END:VCALENDAR
