BEGIN:VCALENDAR
PRODID:-//AT Content Types//AT Event//EN
VERSION:2.0
METHOD:PUBLISH
BEGIN:VEVENT
DTSTAMP:20260423T200625Z
CREATED:20250602T105343Z
UID:ATEvent-b03d552badf849d48344b65ca4f9eba5
LAST-MODIFIED:20250610T142912Z
SUMMARY:CPLG Spring Conference
DTSTART:20250520T083000Z
DTEND:20250520T140000Z
CLASS:PUBLIC
END:VEVENT
END:VCALENDAR
