BEGIN:VCALENDAR
PRODID:-//AT Content Types//AT Event//EN
VERSION:2.0
METHOD:PUBLISH
BEGIN:VEVENT
DTSTAMP:20260423T200749Z
CREATED:20250613T085057Z
UID:ATEvent-3b765b420ea345a3a6648850ec6bff44
LAST-MODIFIED:20250613T085057Z
SUMMARY:Closing Date
DTSTART:20250613T110000Z
DTEND:20250627T110000Z
DESCRIPTION:The closing date for submission of this Expression of Inte
 rest is 12:00 Noon on Friday 27 June 2025
CLASS:PUBLIC
END:VEVENT
END:VCALENDAR
