BEGIN:VCALENDAR
PRODID:-//AT Content Types//AT Event//EN
VERSION:2.0
METHOD:PUBLISH
BEGIN:VEVENT
DTSTAMP:20260421T142947Z
CREATED:20241008T091045Z
UID:ATEvent-3fef0c57cd7e41e3a1ce037d16caa143
LAST-MODIFIED:20241008T091422Z
SUMMARY:Derrytrasna Pastoral Care Awards
DTSTART:20241104T100000Z
DTEND:20241213T170000Z
DESCRIPTION:The Derrytrasna Pastoral Care Award seeks to recognise tho
 se school communities that have demonstrated exceptional effort in sup
 porting the pastoral care of pupils and their families.
CLASS:PUBLIC
END:VEVENT
END:VCALENDAR
